BEGIN:VCALENDAR
VERSION:2.0
PRODID:-//Malayali Muslim Association of Canada - ECPv6.15.18//NONSGML v1.0//EN
CALSCALE:GREGORIAN
METHOD:PUBLISH
X-WR-CALNAME:Malayali Muslim Association of Canada
X-ORIGINAL-URL:https://malayalimuslims.ca
X-WR-CALDESC:Events for Malayali Muslim Association of Canada
REFRESH-INTERVAL;VALUE=DURATION:PT1H
X-Robots-Tag:noindex
X-PUBLISHED-TTL:PT1H
BEGIN:VTIMEZONE
TZID:America/Toronto
BEGIN:DAYLIGHT
TZOFFSETFROM:-0500
TZOFFSETTO:-0400
TZNAME:EDT
DTSTART:20200308T070000
END:DAYLIGHT
BEGIN:STANDARD
TZOFFSETFROM:-0400
TZOFFSETTO:-0500
TZNAME:EST
DTSTART:20201101T060000
END:STANDARD
BEGIN:DAYLIGHT
TZOFFSETFROM:-0500
TZOFFSETTO:-0400
TZNAME:EDT
DTSTART:20210314T070000
END:DAYLIGHT
BEGIN:STANDARD
TZOFFSETFROM:-0400
TZOFFSETTO:-0500
TZNAME:EST
DTSTART:20211107T060000
END:STANDARD
BEGIN:DAYLIGHT
TZOFFSETFROM:-0500
TZOFFSETTO:-0400
TZNAME:EDT
DTSTART:20220313T070000
END:DAYLIGHT
BEGIN:STANDARD
TZOFFSETFROM:-0400
TZOFFSETTO:-0500
TZNAME:EST
DTSTART:20221106T060000
END:STANDARD
BEGIN:DAYLIGHT
TZOFFSETFROM:-0500
TZOFFSETTO:-0400
TZNAME:EDT
DTSTART:20230312T070000
END:DAYLIGHT
BEGIN:STANDARD
TZOFFSETFROM:-0400
TZOFFSETTO:-0500
TZNAME:EST
DTSTART:20231105T060000
END:STANDARD
BEGIN:DAYLIGHT
TZOFFSETFROM:-0500
TZOFFSETTO:-0400
TZNAME:EDT
DTSTART:20240310T070000
END:DAYLIGHT
BEGIN:STANDARD
TZOFFSETFROM:-0400
TZOFFSETTO:-0500
TZNAME:EST
DTSTART:20241103T060000
END:STANDARD
BEGIN:DAYLIGHT
TZOFFSETFROM:-0500
TZOFFSETTO:-0400
TZNAME:EDT
DTSTART:20250309T070000
END:DAYLIGHT
BEGIN:STANDARD
TZOFFSETFROM:-0400
TZOFFSETTO:-0500
TZNAME:EST
DTSTART:20251102T060000
END:STANDARD
BEGIN:DAYLIGHT
TZOFFSETFROM:-0500
TZOFFSETTO:-0400
TZNAME:EDT
DTSTART:20260308T070000
END:DAYLIGHT
BEGIN:STANDARD
TZOFFSETFROM:-0400
TZOFFSETTO:-0500
TZNAME:EST
DTSTART:20261101T060000
END:STANDARD
END:VTIMEZONE
BEGIN:VEVENT
DTSTART;TZID=America/Toronto:20250330T180000
DTEND;TZID=America/Toronto:20250330T220000
DTSTAMP:20260425T101046
CREATED:20250305T225655Z
LAST-MODIFIED:20250307T005705Z
UID:7842-1743357600-1743372000@malayalimuslims.ca
SUMMARY:MMAC Eid Ul Fitr 2025
DESCRIPTION: 
URL:https://malayalimuslims.ca/events/eid-al-fitr-2025/
LOCATION:Woodbine Banquet Hall\, 30 Vice Regent Blvd\, Etobicoke\, ON\, M9W 7A4
END:VEVENT
BEGIN:VEVENT
DTSTART;TZID=America/Toronto:20250208T170000
DTEND;TZID=America/Toronto:20250208T210000
DTSTAMP:20260425T101046
CREATED:20250115T212631Z
LAST-MODIFIED:20250115T212631Z
UID:7646-1739034000-1739048400@malayalimuslims.ca
SUMMARY:MMAC Winter Social 2025
DESCRIPTION:
URL:https://malayalimuslims.ca/events/mmac-winter-social-2025/
LOCATION:Milton Lions Cloub Hall\, 77 Thompson Rd S\, Milton\, ON\, L9T 6P7\, Canada
END:VEVENT
BEGIN:VEVENT
DTSTART;TZID=America/Toronto:20250118T110000
DTEND;TZID=America/Toronto:20250118T180000
DTSTAMP:20260425T101046
CREATED:20241227T045014Z
LAST-MODIFIED:20241227T194155Z
UID:7621-1737198000-1737223200@malayalimuslims.ca
SUMMARY:MMAC Teen Leadership Summit 2025
DESCRIPTION:
URL:https://malayalimuslims.ca/events/teen-leadership-summit-2025/
LOCATION:Malton Community Centre\, 3540 Morning Star Dr\, Mississauga\, ON\, L4T 1Y2
END:VEVENT
BEGIN:VEVENT
DTSTART;TZID=America/Toronto:20241201T000000
DTEND;TZID=America/Toronto:20241201T000000
DTSTAMP:20260425T101046
CREATED:20240415T155307Z
LAST-MODIFIED:20240415T155307Z
UID:6973-1733011200-1733011200@malayalimuslims.ca
SUMMARY:MMAC Anniversary
DESCRIPTION:.
URL:https://malayalimuslims.ca/events/mmac-anniversary-2024/
LOCATION:ON
END:VEVENT
BEGIN:VEVENT
DTSTART;TZID=America/Toronto:20241026T110000
DTEND;TZID=America/Toronto:20241027T100000
DTSTAMP:20260425T101046
CREATED:20240919T030009Z
LAST-MODIFIED:20240919T030828Z
UID:7517-1729940400-1730023200@malayalimuslims.ca
SUMMARY:MMAC Sisters' Fiesta
DESCRIPTION:
URL:https://malayalimuslims.ca/events/sisters-fiesta2024/
LOCATION:.\, 118 Parkview Dr\, Roseneath
END:VEVENT
BEGIN:VEVENT
DTSTART;TZID=America/Toronto:20240915T110000
DTEND;TZID=America/Toronto:20240915T160000
DTSTAMP:20260425T101046
CREATED:20240808T211623Z
LAST-MODIFIED:20240815T181640Z
UID:7313-1726398000-1726416000@malayalimuslims.ca
SUMMARY:MMAC BBQ Party 2024
DESCRIPTION:
URL:https://malayalimuslims.ca/events/mmac-bbq-party-2024/
LOCATION:Milton Community Park Picnic Area C
END:VEVENT
BEGIN:VEVENT
DTSTART;TZID=America/Toronto:20240616T170000
DTEND;TZID=America/Toronto:20240616T210000
DTSTAMP:20260425T101046
CREATED:20240616T202944Z
LAST-MODIFIED:20240616T202944Z
UID:7241-1718557200-1718571600@malayalimuslims.ca
SUMMARY:MMAC Eid Ul Adha 2024
DESCRIPTION: 
URL:https://malayalimuslims.ca/events/mmac-eid-ul-adha-2024/
LOCATION:OASIS CONVENTION CENTER\, 1036 Lakeshore Rd E.\, Mississauga\, Ontario\, L5E 1E4
END:VEVENT
BEGIN:VEVENT
DTSTART;TZID=America/Toronto:20240410T170000
DTEND;TZID=America/Toronto:20240410T210000
DTSTAMP:20260425T101046
CREATED:20240309T154821Z
LAST-MODIFIED:20240314T035029Z
UID:6687-1712768400-1712782800@malayalimuslims.ca
SUMMARY:MMAC Eid Ul Fitr 2024
DESCRIPTION: 
URL:https://malayalimuslims.ca/events/eid-ul-fitr2024/
LOCATION:John Paul II Cultural Centre\, 4300 Cawthra Road\, Mississauga\, ON
END:VEVENT
BEGIN:VEVENT
DTSTART;TZID=America/Toronto:20240210T120000
DTEND;TZID=America/Toronto:20240210T160000
DTSTAMP:20260425T101046
CREATED:20240119T232846Z
LAST-MODIFIED:20240119T232846Z
UID:6655-1707566400-1707580800@malayalimuslims.ca
SUMMARY:MMAC Winter Social 2024
DESCRIPTION:
URL:https://malayalimuslims.ca/events/mmac-winter-social-2024/
LOCATION:Peal Banquet Hall\, 1638 Aimco Blvd\, Mississauga\, ON\, L4W 1V1\, Canada
END:VEVENT
BEGIN:VEVENT
DTSTART;TZID=America/Toronto:20231014T120000
DTEND;TZID=America/Toronto:20231014T190000
DTSTAMP:20260425T101046
CREATED:20230807T162956Z
LAST-MODIFIED:20230807T163034Z
UID:6448-1697284800-1697310000@malayalimuslims.ca
SUMMARY:MMAC Sisters' Fiesta
DESCRIPTION:
URL:https://malayalimuslims.ca/events/sisters-fiesta2023/
LOCATION:Micheal Power High School\, 105 Eringate Dr\, Etobicoke\, ON\, M9C 3Z7\, Canada
END:VEVENT
BEGIN:VEVENT
DTSTART;TZID=America/Toronto:20230628T180000
DTEND;TZID=America/Toronto:20230628T220000
DTSTAMP:20260425T101046
CREATED:20230526T050831Z
LAST-MODIFIED:20230526T052013Z
UID:6091-1687975200-1687989600@malayalimuslims.ca
SUMMARY:MMAC Eid Al Adha
DESCRIPTION:
URL:https://malayalimuslims.ca/events/eid-al-adha2023/
LOCATION:John Paul II Cultural Centre\, 4300 Cawthra Road\, Mississauga\, ON
END:VEVENT
BEGIN:VEVENT
DTSTART;TZID=America/Toronto:20230421T173000
DTEND;TZID=America/Toronto:20230421T223000
DTSTAMP:20260425T101046
CREATED:20230322T214009Z
LAST-MODIFIED:20230322T214009Z
UID:5720-1682098200-1682116200@malayalimuslims.ca
SUMMARY:MMAC Eid Ul Fitr
DESCRIPTION:
URL:https://malayalimuslims.ca/events/eid-ul-fitr2023/
LOCATION:Grand Cinnamon Banquet Hall\, 3895 McNicoll Ave\, Scarborough\, Ontario\, M1X 0C1\, Canada
END:VEVENT
BEGIN:VEVENT
DTSTART;TZID=America/Toronto:20230303T183000
DTEND;TZID=America/Toronto:20230303T213000
DTSTAMP:20260425T101046
CREATED:20230209T043934Z
LAST-MODIFIED:20230211T054930Z
UID:5567-1677868200-1677879000@malayalimuslims.ca
SUMMARY:MMAC Winter Social 2023
DESCRIPTION:
URL:https://malayalimuslims.ca/events/mmac-winter-social-2023/
LOCATION:LC Taylor Auditorium\, Mississauga Valley Comminity Center\, 1275 Mississauga Vly Blvd\, Mississauga\, ON\, L5A 3R8\, Canada
END:VEVENT
BEGIN:VEVENT
DTSTART;TZID=America/Toronto:20230114T093000
DTEND;TZID=America/Toronto:20230114T183000
DTSTAMP:20260425T101046
CREATED:20221227T182913Z
LAST-MODIFIED:20221227T212009Z
UID:5420-1673688600-1673721000@malayalimuslims.ca
SUMMARY:MMAC Youth Camp 2023
DESCRIPTION:
URL:https://malayalimuslims.ca/events/mmac-youth-camp-2023/
LOCATION:#15 – 43 Passmore Ave\, #15 - 43 Passmore Avenue\, Scarborough\, ON\, M1V 4T1
END:VEVENT
BEGIN:VEVENT
DTSTART;TZID=America/Toronto:20221201T000000
DTEND;TZID=America/Toronto:20221201T000000
DTSTAMP:20260425T101046
CREATED:20220809T024902Z
LAST-MODIFIED:20220809T024902Z
UID:5176-1669852800-1669852800@malayalimuslims.ca
SUMMARY:MMAC Anniversary
DESCRIPTION:.
URL:https://malayalimuslims.ca/events/mmac-anniversary-2022/
LOCATION:ON
END:VEVENT
BEGIN:VEVENT
DTSTART;TZID=America/Toronto:20221114T170000
DTEND;TZID=America/Toronto:20221114T180000
DTSTAMP:20260425T101046
CREATED:20221024T000039Z
LAST-MODIFIED:20221029T000427Z
UID:5315-1668445200-1668448800@malayalimuslims.ca
SUMMARY:MMAC Story Nights 2022
DESCRIPTION:
URL:https://malayalimuslims.ca/events/mmac-story-nights-2022/
LOCATION:Online
END:VEVENT
BEGIN:VEVENT
DTSTART;TZID=America/Toronto:20220924T110000
DTEND;TZID=America/Toronto:20220924T200000
DTSTAMP:20260425T101046
CREATED:20220813T132852Z
LAST-MODIFIED:20220813T132852Z
UID:5210-1664017200-1664049600@malayalimuslims.ca
SUMMARY:MMAC Sisters Fiesta 2022
DESCRIPTION:
URL:https://malayalimuslims.ca/events/mmac-sisters-fiesta-2022/
LOCATION:Hamilton Malayali Samajam\, 1095 Woodburn Rd\, Hamilton\, ON\, L0R 1P0\, Canada
END:VEVENT
BEGIN:VEVENT
DTSTART;TZID=America/Toronto:20220910T110000
DTEND;TZID=America/Toronto:20220910T160000
DTSTAMP:20260425T101046
CREATED:20220810T162352Z
LAST-MODIFIED:20220810T170246Z
UID:5180-1662807600-1662825600@malayalimuslims.ca
SUMMARY:MMAC BBQ Party 2022
DESCRIPTION:
URL:https://malayalimuslims.ca/events/mmac-bbq-2022/
LOCATION:Meadowvale Conservation Area( Area B and C)\, 7250 Second Line W\,\, Mississauga\, ON\, L5W 1M7
END:VEVENT
BEGIN:VEVENT
DTSTART;TZID=America/Toronto:20220710T160000
DTEND;TZID=America/Toronto:20220710T220000
DTSTAMP:20260425T101046
CREATED:20220528T161954Z
LAST-MODIFIED:20221027T033432Z
UID:5022-1657468800-1657490400@malayalimuslims.ca
SUMMARY:MMAC Eid Ishal Night
DESCRIPTION:
URL:https://malayalimuslims.ca/events/mmac-eid-ishal-night/
LOCATION:Swagat Banquet Hall\, 6991 Millcreek Dr\, Mississauga\, Ontario\, L5N 6B9\, Canada
END:VEVENT
BEGIN:VEVENT
DTSTART;TZID=America/Toronto:20220502T170000
DTEND;TZID=America/Toronto:20220502T210000
DTSTAMP:20260425T101046
CREATED:20220409T031800Z
LAST-MODIFIED:20221027T033453Z
UID:4701-1651510800-1651525200@malayalimuslims.ca
SUMMARY:MMAC Eid Ul Fitr
DESCRIPTION:
URL:https://malayalimuslims.ca/events/mmac-eid-ul-fitr-2022/
LOCATION:Peal Banquet Hall\, 1638 Aimco Blvd\, Mississauga\, ON\, L4W 1V1\, Canada
END:VEVENT
BEGIN:VEVENT
DTSTART;TZID=America/Toronto:20220327T170000
DTEND;TZID=America/Toronto:20220327T210000
DTSTAMP:20260425T101046
CREATED:20220318T215509Z
LAST-MODIFIED:20220318T220354Z
UID:4462-1648400400-1648414800@malayalimuslims.ca
SUMMARY:MMAC C.A.R.E - Spring Social 2022
DESCRIPTION:Date: Sunday March 27\, 2022\nTime: 5PM – 9PM EST\nLocation: Maple Banquet Hall – 1325 Eglinton Ave E\, Mississauga\, ON L4W 4L9\, Canada
URL:https://malayalimuslims.ca/events/mmac-care-springsocial/
LOCATION:Maple Banquet Hall\, 1325 Eglinton Ave E\, Mississauga\, Ontario\, L4W 4L9\, Canada
END:VEVENT
BEGIN:VEVENT
DTSTART;TZID=America/Toronto:20220326T113000
DTEND;TZID=America/Toronto:20220326T123000
DTSTAMP:20260425T101046
CREATED:20220314T203105Z
LAST-MODIFIED:20220314T203202Z
UID:4428-1648294200-1648297800@malayalimuslims.ca
SUMMARY:MMAC C.A.R.E - Tax Filing Info Session and Tax Filing Assistance
DESCRIPTION:Speaker – Mr. Krishna Kumar \nJoin via Youtube Live – https://youtu.be/Yl5ZF6QO5Mo
URL:https://malayalimuslims.ca/events/mmac-care-tax-filing-session/
LOCATION:Online
END:VEVENT
BEGIN:VEVENT
DTSTART;TZID=America/Toronto:20220319T194500
DTEND;TZID=America/Toronto:20220319T204500
DTSTAMP:20260425T101046
CREATED:20220315T151945Z
LAST-MODIFIED:20220315T151945Z
UID:4439-1647719100-1647722700@malayalimuslims.ca
SUMMARY:MMAC Ahlan Ramadan
DESCRIPTION:Speaker – Sh. Ahmad Kutty \nJoin via Youtube Live – https://youtu.be/zP_CLnyqufk
URL:https://malayalimuslims.ca/events/mmac-ahlan-ramadan/
LOCATION:Online
END:VEVENT
BEGIN:VEVENT
DTSTART;TZID=America/Toronto:20220312T110000
DTEND;TZID=America/Toronto:20220312T120000
DTSTAMP:20260425T101046
CREATED:20220308T195222Z
LAST-MODIFIED:20220308T201407Z
UID:4391-1647082800-1647086400@malayalimuslims.ca
SUMMARY:MMAC C.A.R.E - Influence on Social Media
DESCRIPTION:Speaker – Sheik Alaa Elsayed \nJoin via Youtube Live – https://youtu.be/dNPXdBC-g14
URL:https://malayalimuslims.ca/events/mmac-care-socialmedia-influence/
LOCATION:Online
END:VEVENT
BEGIN:VEVENT
DTSTART;TZID=America/Toronto:20220129T110000
DTEND;TZID=America/Toronto:20220129T120000
DTSTAMP:20260425T101046
CREATED:20220118T035839Z
LAST-MODIFIED:20220126T225643Z
UID:4293-1643454000-1643457600@malayalimuslims.ca
SUMMARY:MMAC C.A.R.E - Halal Investment Plan
DESCRIPTION:Speakers – Mr. Hash Assad and Sh. Navaid Aziz \nJoin via Youtube Live – https://youtu.be/jJIIbiPBW7c
URL:https://malayalimuslims.ca/events/mmac-care-halal-investmentplan/
LOCATION:Online
END:VEVENT
BEGIN:VEVENT
DTSTART;TZID=America/Toronto:20220115T110000
DTEND;TZID=America/Toronto:20220115T120000
DTSTAMP:20260425T101046
CREATED:20220110T173009Z
LAST-MODIFIED:20220112T024115Z
UID:4200-1642244400-1642248000@malayalimuslims.ca
SUMMARY:MMAC C.A.R.E - Financial Planning and Wealth in Islam
DESCRIPTION:Speakers – Mr. Hash Assad and Sh. Navaid Aziz \nFor more details – please visit https://malayalimuslims.ca/mmac-care-financialplan-wealthislam/  \nJoin via Youtube Live – https://youtu.be/GItrZzHfbwA
URL:https://malayalimuslims.ca/events/mmac-care-financialplan-wealthislam/
LOCATION:Online
END:VEVENT
BEGIN:VEVENT
DTSTART;TZID=America/Toronto:20211201T080000
DTEND;TZID=America/Toronto:20211201T083000
DTSTAMP:20260425T101046
CREATED:20210704T005355Z
LAST-MODIFIED:20211025T203800Z
UID:3743-1638345600-1638347400@malayalimuslims.ca
SUMMARY:MMAC Anniversary
DESCRIPTION:.
URL:https://malayalimuslims.ca/events/mmac-anniversary/
LOCATION:ON
END:VEVENT
BEGIN:VEVENT
DTSTART;TZID=America/Toronto:20211126T190000
DTEND;TZID=America/Toronto:20211126T200000
DTSTAMP:20260425T101046
CREATED:20211118T033557Z
LAST-MODIFIED:20211118T034645Z
UID:4140-1637953200-1637956800@malayalimuslims.ca
SUMMARY:MMAC C.A.R.E - Credit Card Fraud Session
DESCRIPTION:Speaker – Speaker – Sue Labine from the Canadian Anti-Fraud Centre \nFor more details – please visit  https://malayalimuslims.ca/mmac-care-creditcard-fraud-awareness/ \nJoin via Youtube Live – https://youtu.be/MGiy4HVA-GE
URL:https://malayalimuslims.ca/events/mmac-care-creditcard-fraud/
LOCATION:Online
END:VEVENT
BEGIN:VEVENT
DTSTART;TZID=America/Toronto:20211113T113000
DTEND;TZID=America/Toronto:20211113T123000
DTSTAMP:20260425T101046
CREATED:20211030T213934Z
LAST-MODIFIED:20211103T200820Z
UID:4048-1636803000-1636806600@malayalimuslims.ca
SUMMARY:MMAC C.A.R.E - Awareness on Financial Scam
DESCRIPTION:Speaker – Elizabeth Naumovski (2019 and 2021 inaugural recipient of the Wealth Professional IFSE institute Award for Financial Literacy Champion) \nFor more details – please visit https://malayalimuslims.ca/mmac-care-financial-scam-awareness/ \nJoin via Youtube Live – https://youtu.be/sPdiUcjos6A
URL:https://malayalimuslims.ca/events/mmac-care-financial-scam-awareness/
LOCATION:Online
ATTACH;FMTTYPE=image/jpeg:https://malayalimuslims.ca/wp-content/uploads/2021/10/mmac-care-financialscam.jpeg
END:VEVENT
BEGIN:VEVENT
DTSTART;TZID=America/Toronto:20211029T193000
DTEND;TZID=America/Toronto:20211029T203000
DTSTAMP:20260425T101046
CREATED:20211025T203347Z
LAST-MODIFIED:20211027T015520Z
UID:4017-1635535800-1635539400@malayalimuslims.ca
SUMMARY:MMAC C.A.R.E - Funeral Support Services Awareness
DESCRIPTION:MMAC has joined hands with Funeral Support Services Organization (FSSO) to bring you this beneficial information session and regard any queries you may have about this initiative \nZoom Link – https://us02web.zoom.us/j/88414243493?pwd=bEpWR2EzKzVKN0hDaFlIWE5yZEVsdz09 \nYoutube Live – https://youtu.be/KCUUMujoYMQ
URL:https://malayalimuslims.ca/events/mmac-care-funeral-support-awareness/
LOCATION:Online
ATTACH;FMTTYPE=image/jpeg:https://malayalimuslims.ca/wp-content/uploads/2021/10/FuneralSuport-Oct29.jpeg
END:VEVENT
END:VCALENDAR