BEGIN:VCALENDAR
VERSION:2.0
PRODID:-//Malayali Muslim Association of Canada - ECPv6.15.18//NONSGML v1.0//EN
CALSCALE:GREGORIAN
METHOD:PUBLISH
X-WR-CALNAME:Malayali Muslim Association of Canada
X-ORIGINAL-URL:https://malayalimuslims.ca
X-WR-CALDESC:Events for Malayali Muslim Association of Canada
REFRESH-INTERVAL;VALUE=DURATION:PT1H
X-Robots-Tag:noindex
X-PUBLISHED-TTL:PT1H
BEGIN:VTIMEZONE
TZID:America/Toronto
BEGIN:DAYLIGHT
TZOFFSETFROM:-0500
TZOFFSETTO:-0400
TZNAME:EDT
DTSTART:20170312T070000
END:DAYLIGHT
BEGIN:STANDARD
TZOFFSETFROM:-0400
TZOFFSETTO:-0500
TZNAME:EST
DTSTART:20171105T060000
END:STANDARD
BEGIN:DAYLIGHT
TZOFFSETFROM:-0500
TZOFFSETTO:-0400
TZNAME:EDT
DTSTART:20180311T070000
END:DAYLIGHT
BEGIN:STANDARD
TZOFFSETFROM:-0400
TZOFFSETTO:-0500
TZNAME:EST
DTSTART:20181104T060000
END:STANDARD
BEGIN:DAYLIGHT
TZOFFSETFROM:-0500
TZOFFSETTO:-0400
TZNAME:EDT
DTSTART:20190310T070000
END:DAYLIGHT
BEGIN:STANDARD
TZOFFSETFROM:-0400
TZOFFSETTO:-0500
TZNAME:EST
DTSTART:20191103T060000
END:STANDARD
BEGIN:DAYLIGHT
TZOFFSETFROM:-0500
TZOFFSETTO:-0400
TZNAME:EDT
DTSTART:20200308T070000
END:DAYLIGHT
BEGIN:STANDARD
TZOFFSETFROM:-0400
TZOFFSETTO:-0500
TZNAME:EST
DTSTART:20201101T060000
END:STANDARD
END:VTIMEZONE
BEGIN:VEVENT
DTSTART;TZID=America/Toronto:20190604T170000
DTEND;TZID=America/Toronto:20190604T210000
DTSTAMP:20260425T210726
CREATED:20190505T180846Z
LAST-MODIFIED:20200229T035947Z
UID:721-1559667600-1559682000@malayalimuslims.ca
SUMMARY:MMAC Eid-ul-Fitr 2019
DESCRIPTION:Assalamu Alaikum! \nWe hope you are reaping the most out of these blessed days.  May this Ramadan bring you tranquility and positive transformation. \nOver a third of the spots for MMAC’s Eid Gathering has already filled up\, so hasten to secure your spot by registering here: \nEvent Sneak Peek#1 \n\n\n*Games*\nAdults:\nsac race\, lemon and spoon\, tug of war\, purse game(ladies)Kids:\nObstacle course\, sack race\, passing the parcelThe venue will also feature numerous other recreational opportunities including darts\, Frisbee\, ping pong\, bouncy castle(kids) \nStay tuned for more updates 🙂
URL:https://malayalimuslims.ca/events/mmac-eid-ul-fitr-2019/
LOCATION:Paul Coffey Park\, Shelter A\, 3430 Derry Rd E\, Mississauga\, Ontario\, L4T 1A9\, Canada
ATTACH;FMTTYPE=image/jpeg:https://malayalimuslims.ca/wp-content/uploads/2019/05/MMAC-EID-2019-update.jpg
END:VEVENT
BEGIN:VEVENT
DTSTART;TZID=America/Toronto:20190323T160000
DTEND;TZID=America/Toronto:20190323T200000
DTSTAMP:20260425T210726
CREATED:20190130T040013Z
LAST-MODIFIED:20200229T040030Z
UID:632-1553356800-1553371200@malayalimuslims.ca
SUMMARY:MMAC Spring Social
DESCRIPTION:To start the upcoming season off on a good note\, MMAC would like to invite you to our Spring Social event. \nThis event is catered to hone in the new season with unlimited fun and excitement. There are separate sections for men\, women and youth to ensure that the programs that are planned are catered to everyone. This warm and cozy evening includes refreshing drinks\, board and video games\, karaoke\, food stalls and more! \nInshallah we hope to see you there and present you with a night to remember!
URL:https://malayalimuslims.ca/events/mmac-spring-social-2019/
LOCATION:Miississauga Sec School\, 550 Courtneypark Dr W\, MIssissauga\, ON\, L5W 1L9\, Canada
ATTACH;FMTTYPE=image/jpeg:https://malayalimuslims.ca/wp-content/uploads/2019/01/MMAC-Spring-event-2019.jpg
END:VEVENT
BEGIN:VEVENT
DTSTART;TZID=America/Toronto:20181201T163000
DTEND;TZID=America/Toronto:20181201T200000
DTSTAMP:20260425T210726
CREATED:20181028T015801Z
LAST-MODIFIED:20181121T044213Z
UID:319-1543681800-1543694400@malayalimuslims.ca
SUMMARY:MMAC ICEBREAKER
DESCRIPTION:Please click on the website link below to Register.
URL:https://malayalimuslims.ca/events/mmac-icebreaker/
LOCATION:Miississauga Sec School\, 550 Courtneypark Dr W\, MIssissauga\, ON\, L5W 1L9\, Canada
ATTACH;FMTTYPE=image/jpeg:https://malayalimuslims.ca/wp-content/uploads/2018/10/Icebreaker_nov20.jpeg
END:VEVENT
END:VCALENDAR