BEGIN:VCALENDAR
VERSION:2.0
PRODID:-//Malayali Muslim Association of Canada - ECPv6.15.18//NONSGML v1.0//EN
CALSCALE:GREGORIAN
METHOD:PUBLISH
X-WR-CALNAME:Malayali Muslim Association of Canada
X-ORIGINAL-URL:https://malayalimuslims.ca
X-WR-CALDESC:Events for Malayali Muslim Association of Canada
REFRESH-INTERVAL;VALUE=DURATION:PT1H
X-Robots-Tag:noindex
X-PUBLISHED-TTL:PT1H
BEGIN:VTIMEZONE
TZID:America/Toronto
BEGIN:DAYLIGHT
TZOFFSETFROM:-0500
TZOFFSETTO:-0400
TZNAME:EDT
DTSTART:20170312T070000
END:DAYLIGHT
BEGIN:STANDARD
TZOFFSETFROM:-0400
TZOFFSETTO:-0500
TZNAME:EST
DTSTART:20171105T060000
END:STANDARD
BEGIN:DAYLIGHT
TZOFFSETFROM:-0500
TZOFFSETTO:-0400
TZNAME:EDT
DTSTART:20180311T070000
END:DAYLIGHT
BEGIN:STANDARD
TZOFFSETFROM:-0400
TZOFFSETTO:-0500
TZNAME:EST
DTSTART:20181104T060000
END:STANDARD
BEGIN:DAYLIGHT
TZOFFSETFROM:-0500
TZOFFSETTO:-0400
TZNAME:EDT
DTSTART:20190310T070000
END:DAYLIGHT
BEGIN:STANDARD
TZOFFSETFROM:-0400
TZOFFSETTO:-0500
TZNAME:EST
DTSTART:20191103T060000
END:STANDARD
BEGIN:DAYLIGHT
TZOFFSETFROM:-0500
TZOFFSETTO:-0400
TZNAME:EDT
DTSTART:20200308T070000
END:DAYLIGHT
BEGIN:STANDARD
TZOFFSETFROM:-0400
TZOFFSETTO:-0500
TZNAME:EST
DTSTART:20201101T060000
END:STANDARD
BEGIN:DAYLIGHT
TZOFFSETFROM:-0500
TZOFFSETTO:-0400
TZNAME:EDT
DTSTART:20210314T070000
END:DAYLIGHT
BEGIN:STANDARD
TZOFFSETFROM:-0400
TZOFFSETTO:-0500
TZNAME:EST
DTSTART:20211107T060000
END:STANDARD
END:VTIMEZONE
BEGIN:VEVENT
DTSTART;TZID=America/Toronto:20200627T160000
DTEND;TZID=America/Toronto:20200627T170000
DTSTAMP:20260425T091327
CREATED:20200625T203720Z
LAST-MODIFIED:20200625T204401Z
UID:2015-1593273600-1593277200@malayalimuslims.ca
SUMMARY:Introduction to Music - Drumming 101
DESCRIPTION:MMAC presents the first in its Introduction to Music series: Drumming 101 by Vishnu Abhishek \nDo you like to tap with a beat on whatever you find? Are your pots and pans and tabletops filled with dents? Congratulations – You may be a future drummer! \nCome and join our introductory session on drumming – learn the basics of the instrument\, how to manage your time with studies and music\, and see if you want to pick up those drum sticks! \nVishnu Abhishek is an established percussionist with a degree from the Trinity School of Music\, London. You can check out his profile here: https://www.soultonecymbals.com/artist/vishnu-abhishek
URL:https://malayalimuslims.ca/events/music-drumming/
LOCATION:Online
ATTACH;FMTTYPE=image/jpeg:https://malayalimuslims.ca/wp-content/uploads/2020/06/Drumming101.jpg
END:VEVENT
BEGIN:VEVENT
DTSTART;TZID=America/Toronto:20200524T150000
DTEND;TZID=America/Toronto:20200524T170000
DTSTAMP:20260425T091327
CREATED:20200315T030009Z
LAST-MODIFIED:20200521T215043Z
UID:1609-1590332400-1590339600@malayalimuslims.ca
SUMMARY:MMAC Eid ul Fitr 2020-Virtual Meet & Celeberation
DESCRIPTION:Zoom Meeting:\nhttps://us02web.zoom.us/j/85633748857?pwd=S3BSVG0vTm4yZmYyUzVrTXN1M2V2QT09\nMeeting ID: 856 3374 8857\nPassword: 190428
URL:https://malayalimuslims.ca/events/eidulfitr2020/
LOCATION:Online
ATTACH;FMTTYPE=image/jpeg:https://malayalimuslims.ca/wp-content/uploads/2020/03/FitrVirtualEid2020.jpeg
END:VEVENT
BEGIN:VEVENT
DTSTART;TZID=America/Toronto:20200412T160000
DTEND;TZID=America/Toronto:20200412T173000
DTSTAMP:20260425T091327
CREATED:20200411T013239Z
LAST-MODIFIED:20200411T013444Z
UID:1816-1586707200-1586712600@malayalimuslims.ca
SUMMARY:MMAC-Immune Health Live Session
DESCRIPTION:Please join our online interactive session with Abdulselam (M Pharm.\, R Ph.) \nTopic: Immune Health \nJoin Zoom Meeting: https://zoom.us/j/947226692\nMeeting ID: 947 226 692 \nOne tap mobile\n+16475580588\,\,947226692#\n+17789072071\,\,947226692# \nDial by your location\n+1 647 558 0588 Canada\n+1 778 907 2071 Canada\n+1 438 809 7799 Canada
URL:https://malayalimuslims.ca/events/immune-health/
ATTACH;FMTTYPE=image/jpeg:https://malayalimuslims.ca/wp-content/uploads/2020/04/ImmuneHealth-2020Apr.jpeg
END:VEVENT
BEGIN:VEVENT
DTSTART;TZID=America/Toronto:20190811T170000
DTEND;TZID=America/Toronto:20190811T213000
DTSTAMP:20260425T091327
CREATED:20190714T162354Z
LAST-MODIFIED:20220528T162040Z
UID:925-1565542800-1565559000@malayalimuslims.ca
SUMMARY:MMAC EID Ishal Night
DESCRIPTION:Assalamualaikum\, \nMMAC is pleased to invite you and your loved ones to an evening of togetherness and celebration. \nEid Ishal Night will be held on August 11th 2019 (Eid Day) Sunday from 5:00pm to 9:30pm at the Grand Cinnamon Banquet Hall. This is an opportunity to meet and mingle with the community\, relish a savory dinner\, revel in the melodious tunes rooted in Malayali / Hindi and Islamic heritage and enjoy various other cultural entertainments that we have lined up for you.\nThe entertainment includes showcasing the talents of our community with special guest Vidyashankar\, an Idea Star Singer finalist. \nFee Details: Seats will be confirmed only upon payment \nAdults(above 10 yrs): $20\nKids (5-10 yrs): $15\nKids under 5 yrs: Free \nFor further inquiries\, please contact: \nNazeem VK: 902-441-1962\nSadiya Ummer: 647-572-3492 \nEVENT SPONSORS \nPlatinum Sponsor \n\nwww.appleviewhomes.com \n\n\n\n\n\n\n\n\n\nGold Sponsors \n\nManojKaratha.com \nSheeba-Kaladgi \nIyappan Cash & Carry \n\n\n  \n  \n\n\n 
URL:https://malayalimuslims.ca/events/mmac-eid-ishal-night-2019/
LOCATION:Grand Cinnamon Banquet Hall\, 3895 McNicoll Ave\, Scarborough\, Ontario\, M1X 0C1\, Canada
ATTACH;FMTTYPE=image/jpeg:https://malayalimuslims.ca/wp-content/uploads/2019/08/Eid-Ishal-Night-Aug-11-2019.jpg
END:VEVENT
BEGIN:VEVENT
DTSTART;TZID=America/Toronto:20190604T170000
DTEND;TZID=America/Toronto:20190604T210000
DTSTAMP:20260425T091327
CREATED:20190505T180846Z
LAST-MODIFIED:20200229T035947Z
UID:721-1559667600-1559682000@malayalimuslims.ca
SUMMARY:MMAC Eid-ul-Fitr 2019
DESCRIPTION:Assalamu Alaikum! \nWe hope you are reaping the most out of these blessed days.  May this Ramadan bring you tranquility and positive transformation. \nOver a third of the spots for MMAC’s Eid Gathering has already filled up\, so hasten to secure your spot by registering here: \nEvent Sneak Peek#1 \n\n\n*Games*\nAdults:\nsac race\, lemon and spoon\, tug of war\, purse game(ladies)Kids:\nObstacle course\, sack race\, passing the parcelThe venue will also feature numerous other recreational opportunities including darts\, Frisbee\, ping pong\, bouncy castle(kids) \nStay tuned for more updates 🙂
URL:https://malayalimuslims.ca/events/mmac-eid-ul-fitr-2019/
LOCATION:Paul Coffey Park\, Shelter A\, 3430 Derry Rd E\, Mississauga\, Ontario\, L4T 1A9\, Canada
ATTACH;FMTTYPE=image/jpeg:https://malayalimuslims.ca/wp-content/uploads/2019/05/MMAC-EID-2019-update.jpg
END:VEVENT
BEGIN:VEVENT
DTSTART;TZID=America/Toronto:20190323T160000
DTEND;TZID=America/Toronto:20190323T200000
DTSTAMP:20260425T091327
CREATED:20190130T040013Z
LAST-MODIFIED:20200229T040030Z
UID:632-1553356800-1553371200@malayalimuslims.ca
SUMMARY:MMAC Spring Social
DESCRIPTION:To start the upcoming season off on a good note\, MMAC would like to invite you to our Spring Social event. \nThis event is catered to hone in the new season with unlimited fun and excitement. There are separate sections for men\, women and youth to ensure that the programs that are planned are catered to everyone. This warm and cozy evening includes refreshing drinks\, board and video games\, karaoke\, food stalls and more! \nInshallah we hope to see you there and present you with a night to remember!
URL:https://malayalimuslims.ca/events/mmac-spring-social-2019/
LOCATION:Miississauga Sec School\, 550 Courtneypark Dr W\, MIssissauga\, ON\, L5W 1L9\, Canada
ATTACH;FMTTYPE=image/jpeg:https://malayalimuslims.ca/wp-content/uploads/2019/01/MMAC-Spring-event-2019.jpg
END:VEVENT
BEGIN:VEVENT
DTSTART;TZID=America/Toronto:20181201T163000
DTEND;TZID=America/Toronto:20181201T200000
DTSTAMP:20260425T091327
CREATED:20181028T015801Z
LAST-MODIFIED:20181121T044213Z
UID:319-1543681800-1543694400@malayalimuslims.ca
SUMMARY:MMAC ICEBREAKER
DESCRIPTION:Please click on the website link below to Register.
URL:https://malayalimuslims.ca/events/mmac-icebreaker/
LOCATION:Miississauga Sec School\, 550 Courtneypark Dr W\, MIssissauga\, ON\, L5W 1L9\, Canada
ATTACH;FMTTYPE=image/jpeg:https://malayalimuslims.ca/wp-content/uploads/2018/10/Icebreaker_nov20.jpeg
END:VEVENT
END:VCALENDAR